Package: miRSM Version: 1.20.0 Command: /Library/Frameworks/R.framework/Resources/bin/R CMD check --install=check:miRSM.install-out.txt --library=/Library/Frameworks/R.framework/Resources/library --no-vignettes --timings miRSM_1.20.0.tar.gz StartedAt: 2024-04-17 19:46:57 -0400 (Wed, 17 Apr 2024) EndedAt: 2024-04-17 19:55:02 -0400 (Wed, 17 Apr 2024) EllapsedTime: 484.9 seconds RetCode: 0 Status: OK CheckDir: miRSM.Rcheck Warnings: 0