Package: miaSim Version: 1.8.0 Command: rm -rf miaSim.buildbin-libdir && mkdir miaSim.buildbin-libdir && /Users/biocbuild/BBS/utils/build-universal.sh miaSim_1.8.0.tar.gz /Library/Frameworks/R.framework/Resources/bin/R miaSim.buildbin-libdir StartedAt: 2024-04-18 10:06:18 -0400 (Thu, 18 Apr 2024) EndedAt: 2024-04-18 10:07:03 -0400 (Thu, 18 Apr 2024) EllapsedTime: 45.1 seconds RetCode: 0 Status: OK PackageFile: miaSim_1.8.0.tgz PackageFileSize: 756.5 KiB