Package: miaSim Version: 1.8.0 Command: /Library/Frameworks/R.framework/Resources/bin/R CMD build --keep-empty-dirs --no-resave-data miaSim StartedAt: 2024-04-16 21:42:40 -0400 (Tue, 16 Apr 2024) EndedAt: 2024-04-16 21:43:44 -0400 (Tue, 16 Apr 2024) EllapsedTime: 64.6 seconds RetCode: 0 Status: OK PackageFile: miaSim_1.8.0.tar.gz PackageFileSize: 673.8 KiB