Package: microSTASIS
Version: 1.2.0
Command: /Library/Frameworks/R.framework/Resources/bin/R CMD build --keep-empty-dirs --no-resave-data microSTASIS
StartedAt: 2024-04-16 21:45:25 -0400 (Tue, 16 Apr 2024)
EndedAt: 2024-04-16 21:47:13 -0400 (Tue, 16 Apr 2024)
EllapsedTime: 107.9 seconds
RetCode: 0
Status: OK
PackageFile: microSTASIS_1.2.0.tar.gz
PackageFileSize: 1.428 <A href="http://en.wikipedia.org/wiki/MiB" target="_blank">MiB</A>