Package: microSTASIS
Version: 1.2.0
Command: /Library/Frameworks/R.framework/Resources/bin/R CMD check --install=check:microSTASIS.install-out.txt --library=/Library/Frameworks/R.framework/Resources/library --no-vignettes --timings microSTASIS_1.2.0.tar.gz
StartedAt: 2024-04-17 19:28:37 -0400 (Wed, 17 Apr 2024)
EndedAt: 2024-04-17 19:35:57 -0400 (Wed, 17 Apr 2024)
EllapsedTime: 439.8 seconds
RetCode: 0
Status: OK
CheckDir: microSTASIS.Rcheck
Warnings: 0