Package: microbiome Version: 1.24.0 Command: /Library/Frameworks/R.framework/Resources/bin/R CMD check --install=check:microbiome.install-out.txt --library=/Library/Frameworks/R.framework/Resources/library --no-vignettes --timings microbiome_1.24.0.tar.gz StartedAt: 2024-04-17 19:21:54 -0400 (Wed, 17 Apr 2024) EndedAt: 2024-04-17 19:25:44 -0400 (Wed, 17 Apr 2024) EllapsedTime: 230.6 seconds RetCode: 1 Status: ERROR CheckDir: microbiome.Rcheck Warnings: NA