Package: microbiomeDASim Version: 1.16.0 Maintainer: Justin Williams MaintainerEmail: williazo at ucla.edu git_url: https://git.bioconductor.org/packages/microbiomeDASim git_branch: RELEASE_3_18 git_last_commit: f2a8522 git_last_commit_date: 2023-10-24 11:16:14 -0400 (Tue, 24 Oct 2023)