Package: mitoClone2 Version: 1.8.1 Command: rm -rf mitoClone2.buildbin-libdir && mkdir mitoClone2.buildbin-libdir && /Users/biocbuild/BBS/utils/build-universal.sh mitoClone2_1.8.1.tar.gz /Library/Frameworks/R.framework/Resources/bin/R mitoClone2.buildbin-libdir StartedAt: 2024-04-18 10:09:45 -0400 (Thu, 18 Apr 2024) EndedAt: 2024-04-18 10:11:10 -0400 (Thu, 18 Apr 2024) EllapsedTime: 85.6 seconds RetCode: 0 Status: OK PackageFile: mitoClone2_1.8.1.tgz PackageFileSize: 1.949 MiB