Package: monaLisa Version: 1.8.1 Command: rm -rf monaLisa.buildbin-libdir && mkdir monaLisa.buildbin-libdir && /Users/biocbuild/BBS/utils/build-universal.sh monaLisa_1.8.1.tar.gz /Library/Frameworks/R.framework/Resources/bin/R monaLisa.buildbin-libdir StartedAt: 2024-04-18 10:11:46 -0400 (Thu, 18 Apr 2024) EndedAt: 2024-04-18 10:12:57 -0400 (Thu, 18 Apr 2024) EllapsedTime: 71.2 seconds RetCode: 0 Status: OK PackageFile: monaLisa_1.8.1.tgz PackageFileSize: 6.31 MiB