Package: monaLisa Version: 1.8.1 Command: /Library/Frameworks/R.framework/Resources/bin/R CMD build --keep-empty-dirs --no-resave-data monaLisa StartedAt: 2024-04-16 22:08:17 -0400 (Tue, 16 Apr 2024) EndedAt: 2024-04-16 22:13:08 -0400 (Tue, 16 Apr 2024) EllapsedTime: 290.6 seconds RetCode: 0 Status: OK PackageFile: monaLisa_1.8.1.tar.gz PackageFileSize: 6.133 MiB