Package: monaLisa Version: 1.8.1 Command: /Library/Frameworks/R.framework/Resources/bin/R CMD INSTALL monaLisa StartedAt: 2024-04-16 12:14:00 -0400 (Tue, 16 Apr 2024) EndedAt: 2024-04-16 12:14:56 -0400 (Tue, 16 Apr 2024) EllapsedTime: 55.9 seconds RetCode: 0 Status: OK