Package: monocle Version: 2.30.1 Command: rm -rf monocle.buildbin-libdir && mkdir monocle.buildbin-libdir && /Users/biocbuild/BBS/utils/build-universal.sh monocle_2.30.1.tar.gz /Library/Frameworks/R.framework/Resources/bin/R monocle.buildbin-libdir StartedAt: 2024-04-18 10:11:58 -0400 (Thu, 18 Apr 2024) EndedAt: 2024-04-18 10:12:35 -0400 (Thu, 18 Apr 2024) EllapsedTime: 37.4 seconds RetCode: 0 Status: OK PackageFile: monocle_2.30.1.tgz PackageFileSize: 1.429 MiB