Package: msmsEDA Version: 1.40.0 Command: /Library/Frameworks/R.framework/Resources/bin/R CMD build --keep-empty-dirs --no-resave-data msmsEDA StartedAt: 2024-04-16 22:23:06 -0400 (Tue, 16 Apr 2024) EndedAt: 2024-04-16 22:23:38 -0400 (Tue, 16 Apr 2024) EllapsedTime: 31.9 seconds RetCode: 0 Status: OK PackageFile: msmsEDA_1.40.0.tar.gz PackageFileSize: 439.3 KiB