Package: msmsTests Version: 1.40.0 Command: /Library/Frameworks/R.framework/Resources/bin/R CMD check --install=check:msmsTests.install-out.txt --library=/Library/Frameworks/R.framework/Resources/library --no-vignettes --timings msmsTests_1.40.0.tar.gz StartedAt: 2024-04-17 20:34:03 -0400 (Wed, 17 Apr 2024) EndedAt: 2024-04-17 20:37:13 -0400 (Wed, 17 Apr 2024) EllapsedTime: 190.3 seconds RetCode: 0 Status: OK CheckDir: msmsTests.Rcheck Warnings: 0