Package: multiWGCNA Version: 1.0.0 Command: /Library/Frameworks/R.framework/Resources/bin/R CMD build --keep-empty-dirs --no-resave-data multiWGCNA StartedAt: 2024-04-16 22:33:49 -0400 (Tue, 16 Apr 2024) EndedAt: 2024-04-16 22:38:55 -0400 (Tue, 16 Apr 2024) EllapsedTime: 306.0 seconds RetCode: 0 Status: OK PackageFile: multiWGCNA_1.0.0.tar.gz PackageFileSize: 2.963 MiB