Package: multiWGCNA Version: 1.0.0 Command: /Library/Frameworks/R.framework/Resources/bin/R CMD check --install=check:multiWGCNA.install-out.txt --library=/Library/Frameworks/R.framework/Resources/library --no-vignettes --timings multiWGCNA_1.0.0.tar.gz StartedAt: 2024-04-17 20:58:14 -0400 (Wed, 17 Apr 2024) EndedAt: 2024-04-17 21:11:58 -0400 (Wed, 17 Apr 2024) EllapsedTime: 824.8 seconds RetCode: 0 Status: OK CheckDir: multiWGCNA.Rcheck Warnings: 0