Package: myvariant Version: 1.32.0 Command: /Library/Frameworks/R.framework/Resources/bin/R CMD INSTALL myvariant StartedAt: 2024-04-16 11:30:16 -0400 (Tue, 16 Apr 2024) EndedAt: 2024-04-16 11:31:10 -0400 (Tue, 16 Apr 2024) EllapsedTime: 53.9 seconds RetCode: 0 Status: OK