Package: nanotatoR Version: 1.18.0 Maintainer: Surajit Bhattacharya MaintainerEmail: sbhattach2 at childrensnational.org git_url: https://git.bioconductor.org/packages/nanotatoR git_branch: RELEASE_3_18 git_last_commit: 9ad2203 git_last_commit_date: 2023-10-24 11:13:33 -0400 (Tue, 24 Oct 2023)