Package: nanotatoR Version: 1.18.0 Command: /Library/Frameworks/R.framework/Resources/bin/R CMD check --install=check:nanotatoR.install-out.txt --library=/Library/Frameworks/R.framework/Resources/library --no-vignettes --timings nanotatoR_1.18.0.tar.gz StartedAt: 2024-04-17 21:11:58 -0400 (Wed, 17 Apr 2024) EndedAt: 2024-04-17 21:14:49 -0400 (Wed, 17 Apr 2024) EllapsedTime: 170.6 seconds RetCode: 0 Status: OK CheckDir: nanotatoR.Rcheck Warnings: 0