Package: ncRNAtools Version: 1.12.0 Command: rm -rf ncRNAtools.buildbin-libdir && mkdir ncRNAtools.buildbin-libdir && /Users/biocbuild/BBS/utils/build-universal.sh ncRNAtools_1.12.0.tar.gz /Library/Frameworks/R.framework/Resources/bin/R ncRNAtools.buildbin-libdir StartedAt: 2024-04-18 10:22:12 -0400 (Thu, 18 Apr 2024) EndedAt: 2024-04-18 10:22:30 -0400 (Thu, 18 Apr 2024) EllapsedTime: 18.1 seconds RetCode: 0 Status: OK PackageFile: ncRNAtools_1.12.0.tgz PackageFileSize: 390.2 KiB