Package: ncRNAtools Version: 1.12.0 Command: /Library/Frameworks/R.framework/Resources/bin/R CMD build --keep-empty-dirs --no-resave-data ncRNAtools StartedAt: 2024-04-16 22:44:23 -0400 (Tue, 16 Apr 2024) EndedAt: 2024-04-16 22:45:20 -0400 (Tue, 16 Apr 2024) EllapsedTime: 56.4 seconds RetCode: 0 Status: OK PackageFile: ncRNAtools_1.12.0.tar.gz PackageFileSize: 318.2 KiB