Package: ncRNAtools Version: 1.12.0 Command: /Library/Frameworks/R.framework/Resources/bin/R CMD INSTALL ncRNAtools StartedAt: 2024-04-16 10:30:20 -0400 (Tue, 16 Apr 2024) EndedAt: 2024-04-16 10:30:34 -0400 (Tue, 16 Apr 2024) EllapsedTime: 14.1 seconds RetCode: 0 Status: OK