Package: nnSVG Version: 1.6.4 Command: /Library/Frameworks/R.framework/Resources/bin/R CMD check --install=check:nnSVG.install-out.txt --library=/Library/Frameworks/R.framework/Resources/library --no-vignettes --timings nnSVG_1.6.4.tar.gz StartedAt: 2024-04-17 21:28:51 -0400 (Wed, 17 Apr 2024) EndedAt: 2024-04-17 21:36:52 -0400 (Wed, 17 Apr 2024) EllapsedTime: 481.4 seconds RetCode: 0 Status: OK CheckDir: nnSVG.Rcheck Warnings: 0