Package: omada Version: 1.4.0 Command: /Library/Frameworks/R.framework/Resources/bin/R CMD build --keep-empty-dirs --no-resave-data omada StartedAt: 2024-04-16 23:06:21 -0400 (Tue, 16 Apr 2024) EndedAt: 2024-04-16 23:08:43 -0400 (Tue, 16 Apr 2024) EllapsedTime: 142.1 seconds RetCode: 0 Status: OK PackageFile: omada_1.4.0.tar.gz PackageFileSize: 261.9 KiB