Package: oncomix Version: 1.24.0 Command: rm -rf oncomix.buildbin-libdir && mkdir oncomix.buildbin-libdir && /Users/biocbuild/BBS/utils/build-universal.sh oncomix_1.24.0.tar.gz /Library/Frameworks/R.framework/Resources/bin/R oncomix.buildbin-libdir StartedAt: 2024-04-18 10:27:27 -0400 (Thu, 18 Apr 2024) EndedAt: 2024-04-18 10:28:04 -0400 (Thu, 18 Apr 2024) EllapsedTime: 36.7 seconds RetCode: 0 Status: OK PackageFile: oncomix_1.24.0.tgz PackageFileSize: 2.465 MiB