Package: oncomix Version: 1.24.0 Command: /Library/Frameworks/R.framework/Resources/bin/R CMD build --keep-empty-dirs --no-resave-data oncomix StartedAt: 2024-04-16 23:10:08 -0400 (Tue, 16 Apr 2024) EndedAt: 2024-04-16 23:10:59 -0400 (Tue, 16 Apr 2024) EllapsedTime: 50.1 seconds RetCode: 0 Status: OK PackageFile: oncomix_1.24.0.tar.gz PackageFileSize: 2.433 MiB