Package: orthos Version: 1.0.1 Command: rm -rf orthos.buildbin-libdir && mkdir orthos.buildbin-libdir && /Users/biocbuild/BBS/utils/build-universal.sh orthos_1.0.1.tar.gz /Library/Frameworks/R.framework/Resources/bin/R orthos.buildbin-libdir StartedAt: 2024-04-18 10:29:39 -0400 (Thu, 18 Apr 2024) EndedAt: 2024-04-18 10:30:21 -0400 (Thu, 18 Apr 2024) EllapsedTime: 42.0 seconds RetCode: 0 Status: OK PackageFile: orthos_1.0.1.tgz PackageFileSize: 2.851 MiB