Package: paxtoolsr Version: 1.36.0 Command: rm -rf paxtoolsr.buildbin-libdir && mkdir paxtoolsr.buildbin-libdir && /Users/biocbuild/BBS/utils/build-universal.sh paxtoolsr_1.36.0.tar.gz /Library/Frameworks/R.framework/Resources/bin/R paxtoolsr.buildbin-libdir StartedAt: 2024-04-15 09:44:53 -0400 (Mon, 15 Apr 2024) EndedAt: 2024-04-15 09:45:08 -0400 (Mon, 15 Apr 2024) EllapsedTime: 15.0 seconds RetCode: 0 Status: OK PackageFile: paxtoolsr_1.36.0.tgz PackageFileSize: 25.65 MiB