Package: paxtoolsr Version: 1.36.0 Command: /Library/Frameworks/R.framework/Resources/bin/R CMD build --keep-empty-dirs --no-resave-data paxtoolsr StartedAt: 2024-04-16 23:33:47 -0400 (Tue, 16 Apr 2024) EndedAt: 2024-04-16 23:34:02 -0400 (Tue, 16 Apr 2024) EllapsedTime: 15.6 seconds RetCode: 1 Status: ERROR PackageFile: None PackageFileSize: NA