Package: pcaExplorer Version: 2.28.0 Command: /Library/Frameworks/R.framework/Resources/bin/R CMD build --keep-empty-dirs --no-resave-data pcaExplorer StartedAt: 2024-04-16 23:33:58 -0400 (Tue, 16 Apr 2024) EndedAt: 2024-04-16 23:36:19 -0400 (Tue, 16 Apr 2024) EllapsedTime: 140.8 seconds RetCode: 0 Status: OK PackageFile: pcaExplorer_2.28.0.tar.gz PackageFileSize: 22.48 MiB