Package: philr Version: 1.28.0 Command: /Library/Frameworks/R.framework/Resources/bin/R CMD check --install=check:philr.install-out.txt --library=/Library/Frameworks/R.framework/Resources/library --no-vignettes --timings philr_1.28.0.tar.gz StartedAt: 2024-04-17 23:01:11 -0400 (Wed, 17 Apr 2024) EndedAt: 2024-04-17 23:04:15 -0400 (Wed, 17 Apr 2024) EllapsedTime: 184.3 seconds RetCode: 0 Status: OK CheckDir: philr.Rcheck Warnings: 0