Package: plasmut Version: 1.0.0 Command: /Library/Frameworks/R.framework/Resources/bin/R CMD build --keep-empty-dirs --no-resave-data plasmut StartedAt: 2024-04-16 23:48:35 -0400 (Tue, 16 Apr 2024) EndedAt: 2024-04-16 23:51:57 -0400 (Tue, 16 Apr 2024) EllapsedTime: 201.2 seconds RetCode: 0 Status: OK PackageFile: plasmut_1.0.0.tar.gz PackageFileSize: 339.1 KiB