Package: plasmut Version: 1.0.0 Command: /Library/Frameworks/R.framework/Resources/bin/R CMD check --install=check:plasmut.install-out.txt --library=/Library/Frameworks/R.framework/Resources/library --no-vignettes --timings plasmut_1.0.0.tar.gz StartedAt: 2024-04-17 23:10:49 -0400 (Wed, 17 Apr 2024) EndedAt: 2024-04-17 23:11:22 -0400 (Wed, 17 Apr 2024) EllapsedTime: 33.8 seconds RetCode: 0 Status: OK CheckDir: plasmut.Rcheck Warnings: 0