Package: polyester Version: 1.38.0 Command: rm -rf polyester.buildbin-libdir && mkdir polyester.buildbin-libdir && /Users/biocbuild/BBS/utils/build-universal.sh polyester_1.38.0.tar.gz /Library/Frameworks/R.framework/Resources/bin/R polyester.buildbin-libdir StartedAt: 2024-04-18 10:36:42 -0400 (Thu, 18 Apr 2024) EndedAt: 2024-04-18 10:37:02 -0400 (Thu, 18 Apr 2024) EllapsedTime: 19.6 seconds RetCode: 0 Status: OK PackageFile: polyester_1.38.0.tgz PackageFileSize: 1.933 MiB