Package: procoil Version: 2.30.0 Command: /Library/Frameworks/R.framework/Resources/bin/R CMD INSTALL procoil StartedAt: 2024-04-16 10:17:37 -0400 (Tue, 16 Apr 2024) EndedAt: 2024-04-16 10:18:09 -0400 (Tue, 16 Apr 2024) EllapsedTime: 31.7 seconds RetCode: 0 Status: OK