Package: profileplyr Version: 1.18.0 Command: /Library/Frameworks/R.framework/Resources/bin/R CMD build --keep-empty-dirs --no-resave-data profileplyr StartedAt: 2024-04-17 00:00:40 -0400 (Wed, 17 Apr 2024) EndedAt: 2024-04-17 00:03:31 -0400 (Wed, 17 Apr 2024) EllapsedTime: 171.0 seconds RetCode: 0 Status: OK PackageFile: profileplyr_1.18.0.tar.gz PackageFileSize: 2.489 MiB