Package: pwrEWAS Version: 1.16.0 Command: /Library/Frameworks/R.framework/Resources/bin/R CMD build --keep-empty-dirs --no-resave-data pwrEWAS StartedAt: 2024-04-17 00:10:22 -0400 (Wed, 17 Apr 2024) EndedAt: 2024-04-17 00:10:23 -0400 (Wed, 17 Apr 2024) EllapsedTime: 1.2 seconds RetCode: 1 Status: ERROR PackageFile: None PackageFileSize: NA