Package: qckitfastq Version: 1.18.0 Command: /Library/Frameworks/R.framework/Resources/bin/R CMD check --install=check:qckitfastq.install-out.txt --library=/Library/Frameworks/R.framework/Resources/library --no-vignettes --timings qckitfastq_1.18.0.tar.gz StartedAt: 2024-04-17 23:57:59 -0400 (Wed, 17 Apr 2024) EndedAt: 2024-04-18 00:00:35 -0400 (Thu, 18 Apr 2024) EllapsedTime: 156.9 seconds RetCode: 0 Status: OK CheckDir: qckitfastq.Rcheck Warnings: 0