Package: qsmooth Version: 1.18.0 Command: /Library/Frameworks/R.framework/Resources/bin/R CMD build --keep-empty-dirs --no-resave-data qsmooth StartedAt: 2024-04-17 00:12:45 -0400 (Wed, 17 Apr 2024) EndedAt: 2024-04-17 00:14:09 -0400 (Wed, 17 Apr 2024) EllapsedTime: 84.1 seconds RetCode: 0 Status: OK PackageFile: qsmooth_1.18.0.tar.gz PackageFileSize: 1.3 MiB