Package: qsmooth Version: 1.18.0 Command: /Library/Frameworks/R.framework/Resources/bin/R CMD check --install=check:qsmooth.install-out.txt --library=/Library/Frameworks/R.framework/Resources/library --no-vignettes --timings qsmooth_1.18.0.tar.gz StartedAt: 2024-04-18 00:05:39 -0400 (Thu, 18 Apr 2024) EndedAt: 2024-04-18 00:10:05 -0400 (Thu, 18 Apr 2024) EllapsedTime: 266.3 seconds RetCode: 0 Status: WARNINGS CheckDir: qsmooth.Rcheck Warnings: 1