Package: rBiopaxParser Version: 2.42.0 Command: rm -rf rBiopaxParser.buildbin-libdir && mkdir rBiopaxParser.buildbin-libdir && /Users/biocbuild/BBS/utils/build-universal.sh rBiopaxParser_2.42.0.tar.gz /Library/Frameworks/R.framework/Resources/bin/R rBiopaxParser.buildbin-libdir StartedAt: 2024-04-18 10:45:36 -0400 (Thu, 18 Apr 2024) EndedAt: 2024-04-18 10:45:43 -0400 (Thu, 18 Apr 2024) EllapsedTime: 7.0 seconds RetCode: 0 Status: OK PackageFile: rBiopaxParser_2.42.0.tgz PackageFileSize: 856.9 KiB