Package: rBiopaxParser Version: 2.42.0 Command: /Library/Frameworks/R.framework/Resources/bin/R CMD build --keep-empty-dirs --no-resave-data rBiopaxParser StartedAt: 2024-04-17 00:33:10 -0400 (Wed, 17 Apr 2024) EndedAt: 2024-04-17 00:33:24 -0400 (Wed, 17 Apr 2024) EllapsedTime: 13.6 seconds RetCode: 0 Status: OK PackageFile: rBiopaxParser_2.42.0.tar.gz PackageFileSize: 897.3 KiB