Package: rBiopaxParser Version: 2.42.0 Command: /Library/Frameworks/R.framework/Resources/bin/R CMD check --install=check:rBiopaxParser.install-out.txt --library=/Library/Frameworks/R.framework/Resources/library --no-vignettes --timings rBiopaxParser_2.42.0.tar.gz StartedAt: 2024-04-18 00:27:14 -0400 (Thu, 18 Apr 2024) EndedAt: 2024-04-18 00:28:04 -0400 (Thu, 18 Apr 2024) EllapsedTime: 50.4 seconds RetCode: 0 Status: OK CheckDir: rBiopaxParser.Rcheck Warnings: 0