Package: rDGIdb Version: 1.28.0 Command: /Library/Frameworks/R.framework/Resources/bin/R CMD check --install=check:rDGIdb.install-out.txt --library=/Library/Frameworks/R.framework/Resources/library --no-vignettes --timings rDGIdb_1.28.0.tar.gz StartedAt: 2024-04-18 00:37:47 -0400 (Thu, 18 Apr 2024) EndedAt: 2024-04-18 00:39:16 -0400 (Thu, 18 Apr 2024) EllapsedTime: 89.3 seconds RetCode: 1 Status: ERROR CheckDir: rDGIdb.Rcheck Warnings: NA