Package: raer Version: 1.0.2 Command: rm -rf raer.buildbin-libdir && mkdir raer.buildbin-libdir && /Users/biocbuild/BBS/utils/build-universal.sh raer_1.0.2.tar.gz /Library/Frameworks/R.framework/Resources/bin/R raer.buildbin-libdir StartedAt: 2024-04-18 10:44:01 -0400 (Thu, 18 Apr 2024) EndedAt: 2024-04-18 10:45:20 -0400 (Thu, 18 Apr 2024) EllapsedTime: 78.9 seconds RetCode: 0 Status: OK PackageFile: raer_1.0.2.tgz PackageFileSize: 2.738 MiB