Package: raer Version: 1.0.2 Command: /Library/Frameworks/R.framework/Resources/bin/R CMD check --install=check:raer.install-out.txt --library=/Library/Frameworks/R.framework/Resources/library --no-vignettes --timings raer_1.0.2.tar.gz StartedAt: 2024-04-18 00:16:43 -0400 (Thu, 18 Apr 2024) EndedAt: 2024-04-18 00:25:10 -0400 (Thu, 18 Apr 2024) EllapsedTime: 507.5 seconds RetCode: 0 Status: WARNINGS CheckDir: raer.Rcheck Warnings: 1