Package: rain Version: 1.36.0 Command: /Library/Frameworks/R.framework/Resources/bin/R CMD build --keep-empty-dirs --no-resave-data rain StartedAt: 2024-04-17 00:27:19 -0400 (Wed, 17 Apr 2024) EndedAt: 2024-04-17 00:27:52 -0400 (Wed, 17 Apr 2024) EllapsedTime: 33.1 seconds RetCode: 0 Status: OK PackageFile: rain_1.36.0.tar.gz PackageFileSize: 604 KiB