Package: rawrr Version: 1.10.2 Command: /Library/Frameworks/R.framework/Resources/bin/R CMD build --keep-empty-dirs --no-resave-data rawrr StartedAt: 2024-04-17 00:32:04 -0400 (Wed, 17 Apr 2024) EndedAt: 2024-04-17 00:33:00 -0400 (Wed, 17 Apr 2024) EllapsedTime: 56.5 seconds RetCode: 0 Status: OK PackageFile: rawrr_1.10.2.tar.gz PackageFileSize: 1.958 MiB