Package: recount Version: 1.28.0 Command: /Library/Frameworks/R.framework/Resources/bin/R CMD check --install=check:recount.install-out.txt --library=/Library/Frameworks/R.framework/Resources/library --no-vignettes --timings recount_1.28.0.tar.gz StartedAt: 2024-04-11 00:06:37 -0400 (Thu, 11 Apr 2024) EndedAt: 2024-04-11 00:17:18 -0400 (Thu, 11 Apr 2024) EllapsedTime: 640.7 seconds RetCode: 0 Status: OK CheckDir: recount.Rcheck Warnings: 0