Package: rhdf5 Version: 2.46.1 Command: /Library/Frameworks/R.framework/Resources/bin/R CMD build --keep-empty-dirs --no-resave-data rhdf5 StartedAt: 2024-04-17 00:54:54 -0400 (Wed, 17 Apr 2024) EndedAt: 2024-04-17 01:19:14 -0400 (Wed, 17 Apr 2024) EllapsedTime: 1459.1 seconds RetCode: 0 Status: OK PackageFile: rhdf5_2.46.1.tar.gz PackageFileSize: 1.219 MiB